BEGIN:VCALENDAR
VERSION:2.0
PRODID:-//Gastronomie Altenburger Brauerei//NONSGML kigkonsult.se iCalcreat
 or 2.30.10//
CALSCALE:GREGORIAN
METHOD:PUBLISH
UID:ed1bd0ec-2fa4-4a91-b22e-cac4552ce78f
X-WR-CALNAME:iCagenda
X-WR-CALDESC:Event Management Extension for Joomla!
X-WR-RELCALID:3E26604A-50F4-4449-8B3E-E4F4932D05B5
X-WR-TIMEZONE:UTC
BEGIN:VTIMEZONE
TZID:UTC
END:VTIMEZONE
BEGIN:VEVENT
UID:8987cd3f-c0fc-4b59-94ab-39eacd0aca04
DTSTAMP:20260420T085057Z
CATEGORIES:Brauereiführungen
CLASS:PUBLIC
DESCRIPTION;ALTREP="CID:<FFFF__=0ABBE548DFE235B58f9e8a93d@coffeebean.com>":
 Mit anschließender Verkostung von 5 Sorten Bier + große Brotzeit.\n \nAnme
 ldungen sind bis zum Vortag jeder Veranstaltung bis 18 Uhr möglich.\nFolge
 nde Varianten bieten wir an:\n\n(S) Museumsbesuch und Betriebsbesichtigung
  | 7\,00 € pro Person\n(M) Museumsbesuch und Betriebsbesichtigung + Bierve
 rkostung (5 Biere im 0\,1l) | 15\,50 € pro Person\n(L) Museumsbesuch und B
 etriebsbesichtigung + Bierverkostung und Laugenbrezel | 18\,50 € pro Perso
 n\n(XL) Museumsbesuch und Betriebsbesichtigung + Bierverkostung &amp\; Bro
 tzeit | 28\,50 € pro Person\n(XXL) Museumsbesuch und Betriebsbesichtigung\
 , Bierverkostung\, große Brotzeit  | 36\,50 € pro Person\n\n \nBuchung nur
  telefonisch unter:  0160-96445011\n \n 
DTSTART:20260313T170000Z
DTEND:20260313T170000Z
GEO:00;0
LOCATION:Altenburger Brauerei
ORGANIZER;CN=:service@gastronomie-altenburger-brauerei.de
SEQUENCE:1
SUMMARY:Führung durch die Altenburger Brauerei
TRANSP:OPAQUE
URL:https://www.gastronomie-altenburger-brauerei.de/fuehrungen/265-fuehrung
 -durch-die-altenburger-brauerei-15
END:VEVENT
END:VCALENDAR
