BEGIN:VCALENDAR
VERSION:2.0
PRODID:-//Gastronomie Altenburger Brauerei//NONSGML kigkonsult.se iCalcreat
 or 2.30.10//
CALSCALE:GREGORIAN
METHOD:PUBLISH
UID:a66b6894-9d7f-425e-8dce-e9a3c38d50f4
X-WR-CALNAME:iCagenda
X-WR-CALDESC:Event Management Extension for Joomla!
X-WR-RELCALID:3E26604A-50F4-4449-8B3E-E4F4932D05B5
X-WR-TIMEZONE:UTC
BEGIN:VTIMEZONE
TZID:UTC
END:VTIMEZONE
BEGIN:VEVENT
UID:fb9ff750-a2b7-45fd-acf3-bf59e6cb2b71
DTSTAMP:20260420T085057Z
CATEGORIES:Brauereiführungen
CLASS:PUBLIC
DESCRIPTION;ALTREP="CID:<FFFF__=0ABBE548DFE235B58f9e8a93d@coffeebean.com>":
 Anmeldungen sind bis zum Vortag jeder Veranstaltung bis 18 Uhr möglich.\nF
 olgende Varianten bieten wir an:\n\n(S) Museumsbesuch und Betriebsbesichti
 gung | 7\,00 € pro Person\n(M) Museumsbesuch und Betriebsbesichtigung + Bi
 erverkostung (5 Biere im 0\,1l) | 15\,50 € pro Person\n(L) Museumsbesuch u
 nd Betriebsbesichtigung + Bierverkostung und Laugenbrezel | 18\,50 € pro P
 erson\n(XL) Museumsbesuch und Betriebsbesichtigung + Bierverkostung &amp\;
  Brotzeit | 28\,50 € pro Person\n(XXL) Museumsbesuch und Betriebsbesichtig
 ung\, Bierverkostung\, große Brotzeit  | 36\,50 € pro Person\n\n \nBuchung
  telefonisch unter:  0160-96445011 oder direkt online über den 'Buchen-But
 ton'\n \n 
DTSTART:20250228T170000Z
DTEND:20250228T170000Z
GEO:00;0
LOCATION:Altenburger Brauerei
ORGANIZER;CN=:service@gastronomie-altenburger-brauerei.de
SEQUENCE:1
SUMMARY:Führung durch die Altenburger Brauerei
TRANSP:OPAQUE
URL:https://www.gastronomie-altenburger-brauerei.de/fuehrungen/241-fuehrung
 -durch-die-altenburger-brauerei-4
END:VEVENT
END:VCALENDAR
