BEGIN:VCALENDAR
VERSION:2.0
PRODID:-//Gastronomie Altenburger Brauerei//NONSGML kigkonsult.se iCalcreat
 or 2.30.10//
CALSCALE:GREGORIAN
METHOD:PUBLISH
UID:f34cc818-579a-4968-836e-2cacd59e1cf5
X-WR-CALNAME:iCagenda
X-WR-CALDESC:Event Management Extension for Joomla!
X-WR-RELCALID:3E26604A-50F4-4449-8B3E-E4F4932D05B5
X-WR-TIMEZONE:UTC
BEGIN:VTIMEZONE
TZID:UTC
END:VTIMEZONE
BEGIN:VEVENT
UID:f418742b-e914-45d7-ba07-b494686252ec
DTSTAMP:20260421T105839Z
CATEGORIES:Brauereiführungen
CLASS:PUBLIC
DESCRIPTION;ALTREP="CID:<FFFF__=0ABBE548DFE235B58f9e8a93d@coffeebean.com>":
 Anmeldungen sind bis zum Vortag jeder Veranstaltung bis 18 Uhr möglich.\nF
 olgende Varianten bieten wir an:\n\n(S) Museumsbesuch und Betriebsbesichti
 gung | 5\,00 € pro Person\n(M) Museumsbesuch und Betriebsbesichtigung + Bi
 erverkostung (5 Biere im 0\,1l) | 10\,00 € pro Person\n(L) Museumsbesuch u
 nd Betriebsbesichtigung + Bierverkostung und Laugenbrezel | 12\,00 € pro P
 erson\n(XL) Museumsbesuch und Betriebsbesichtigung + Bierverkostung &amp\;
  Brotzeit | 19\,00 € pro Person\n(XXL) Museumsbesuch und Betriebsbesichtig
 ung\, Bierverkostung\, große Botzeit + Bierbrand und Bierglas | 25\,00 € p
 ro PersonJetzt auch online anmelden...\n
DTSTART:20210911T150000Z
DTEND:20210911T150000Z
GEO:00;0
LOCATION:Altenburger Brauerei
ORGANIZER;CN=:info@gastronomie-altenburger-brauerei.de
SEQUENCE:1
SUMMARY:Führung durch die Altenburger Brauerei
TRANSP:OPAQUE
URL:https://www.gastronomie-altenburger-brauerei.de/fuehrungen/138-2018-02-
 01-11-14-63
END:VEVENT
END:VCALENDAR
