BEGIN:VCALENDAR
VERSION:2.0
PRODID:-//Gastronomie Altenburger Brauerei//NONSGML kigkonsult.se iCalcreat
 or 2.30.10//
CALSCALE:GREGORIAN
METHOD:PUBLISH
UID:89e7369e-32b0-43e6-b7dd-c582a9754cbf
X-WR-CALNAME:iCagenda
X-WR-CALDESC:Event Management Extension for Joomla!
X-WR-RELCALID:3E26604A-50F4-4449-8B3E-E4F4932D05B5
X-WR-TIMEZONE:UTC
BEGIN:VTIMEZONE
TZID:UTC
END:VTIMEZONE
BEGIN:VEVENT
UID:ef0aba8d-f929-4e92-8b88-8be96729cb78
DTSTAMP:20260420T090707Z
CATEGORIES:Disko / Musik / Konzert
CLASS:PUBLIC
DESCRIPTION;ALTREP="CID:<FFFF__=0ABBE548DFE235B58f9e8a93d@coffeebean.com>":
 Die Wege von Driftwood Holly in Worte zu fassen ist kaum möglich.\nMan kan
 n ihn auf seinem Lebensweg gelegentlich und dann meist nur staunend beglei
 ten. Anfang 2026 bietet sich allen wieder die Chance Teil seiner immer unk
 onventioneller werdenden Er~Leb~nis~Kreationen zu werden\, um dabeifestzus
 tellen\, dass er mit seiner Musik und seinen Geschichten dem Weinfass ganz
  sicher auch auf dieser Deutschland-Tour den Boden der Realität raushaut.
 \nGrenzen waren für den jetzt in Kanada lebenden Ex~Ossi schon immer nur S
 tolperlinien\, aber nie wirkliche Hindernisse. Auf seiner aktuellen Deutsc
 hland-Tour kannst du Anfang 2026 dabei sein\, wenn er sich mit seinen drei
  Musketieren Jäcki Reznicek (Silly) \, Basti Reznicek (Stamping Feet) und 
 Traumgeiger Pavel Osvald\, von tief unter der Erde des Erzgebirges\, durch
  die letzten echten Kult- und Ballsäle unseres Landes bis über alle Grenze
 n hinaus\, in den Weltraum spielt.\nHolly lädt Dich ein\, auf dieser Tour 
 ein Stück gemeinsam mit ihm über unseren herrlichen Erden~Stern zu reisen.
  Du lernst bekannte und neue\, aber garantiert immer außergewöhnliche Plät
 ze kennen\, in deren Atmosphäre Dir Holly Momente innigster Reflektion bis
  hin zu kindlicher Ekstase\, also sein ganzes Holly~Spektrum schenken wird
 .\nDriftwood Holly Konzerte sind Dank seiner ihm treu folgenden stetig wac
 hsenden „Tribe“ alles andere als gewöhnlich\, sie sind ein Kunst~Er~Leb~ni
 s. Ehrlich\, wild und respektvoll bieten sie dir einen Blick aus verschied
 enenPerspektiven\, die alle eins gemein haben:\n“Sie schreien nach Er~Leb~
 nis”.\n \nTickets gibt es hier!
DTSTART:20260206T200000Z
DTEND:20260206T220000Z
GEO:00;0
LOCATION:Tenne - Altenburger Brauerei
ORGANIZER;CN=:service@gastronomie-altenburger-brauerei.de
SEQUENCE:1
SUMMARY:Driftwood Holly - Das Bierkeller Konzert
TRANSP:OPAQUE
URL:https://www.gastronomie-altenburger-brauerei.de/events/264-driftwood-ho
 lly-das-bierkeller-konzert
END:VEVENT
END:VCALENDAR
