BEGIN:VCALENDAR
VERSION:2.0
PRODID:-//Gastronomie Altenburger Brauerei//NONSGML kigkonsult.se iCalcreat
 or 2.30.10//
CALSCALE:GREGORIAN
METHOD:PUBLISH
UID:39d9a1ec-ebdc-4009-9e58-35503612720c
X-WR-CALNAME:iCagenda
X-WR-CALDESC:Event Management Extension for Joomla!
X-WR-RELCALID:3E26604A-50F4-4449-8B3E-E4F4932D05B5
X-WR-TIMEZONE:UTC
BEGIN:VTIMEZONE
TZID:UTC
END:VTIMEZONE
BEGIN:VEVENT
UID:cc239173-3ec0-4fc2-8e0b-1b491599bcf9
DTSTAMP:20260421T090849Z
CATEGORIES:Veranstaltungen
CLASS:PUBLIC
DESCRIPTION;ALTREP="CID:<FFFF__=0ABBE548DFE235B58f9e8a93d@coffeebean.com>":
  \n \nBuchung telefonisch unter:  0160-96445011\n \n 
DTSTART:20251109T180000Z
DTEND:20251109T180000Z
GEO:00;0
LOCATION:Sudhaus Altenburger Brauerei
ORGANIZER;CN=:service@gastronomie-altenburger-brauerei.de
SEQUENCE:1
SUMMARY:St.Martins-Gäste-Essen
TRANSP:OPAQUE
URL:https://www.gastronomie-altenburger-brauerei.de/events/248-st-martins-g
 aeste-essen
END:VEVENT
END:VCALENDAR
